BEGIN:VCALENDAR
VERSION:2.0
PRODID:-//Labyrinths in Britain - ECPv6.15.7//NONSGML v1.0//EN
CALSCALE:GREGORIAN
METHOD:PUBLISH
X-WR-CALNAME:Labyrinths in Britain
X-ORIGINAL-URL:https://labyrinthsinbritain.uk
X-WR-CALDESC:Events for Labyrinths in Britain
REFRESH-INTERVAL;VALUE=DURATION:PT1H
X-Robots-Tag:noindex
X-PUBLISHED-TTL:PT1H
BEGIN:VTIMEZONE
TZID:UTC
BEGIN:STANDARD
TZOFFSETFROM:+0000
TZOFFSETTO:+0000
TZNAME:UTC
DTSTART:20180101T000000
END:STANDARD
END:VTIMEZONE
BEGIN:VEVENT
DTSTART;TZID=UTC:20190727T093000
DTEND;TZID=UTC:20190727T163000
DTSTAMP:20260424T062557
CREATED:20190329T192437Z
LAST-MODIFIED:20190401T113842Z
UID:476-1564219800-1564245000@labyrinthsinbritain.uk
SUMMARY:Walking Tour of London Labyrinths
DESCRIPTION:Join us for a unique walking tour of London labyrinths! Mark your diaries now… full details to be announced soon.
URL:https://labyrinthsinbritain.uk/event/2019-regional-event/
CATEGORIES:Labyrinth Walk,Regional Event
ORGANIZER;CN="Labyrinths in Britain":MAILTO:singingkay@gmail.com
END:VEVENT
END:VCALENDAR