BEGIN:VCALENDAR
VERSION:2.0
PRODID:-//Labyrinths in Britain - ECPv6.15.7//NONSGML v1.0//EN
CALSCALE:GREGORIAN
METHOD:PUBLISH
X-WR-CALNAME:Labyrinths in Britain
X-ORIGINAL-URL:https://labyrinthsinbritain.uk
X-WR-CALDESC:Events for Labyrinths in Britain
REFRESH-INTERVAL;VALUE=DURATION:PT1H
X-Robots-Tag:noindex
X-PUBLISHED-TTL:PT1H
BEGIN:VTIMEZONE
TZID:Europe/London
BEGIN:DAYLIGHT
TZOFFSETFROM:+0000
TZOFFSETTO:+0100
TZNAME:BST
DTSTART:20180325T010000
END:DAYLIGHT
BEGIN:STANDARD
TZOFFSETFROM:+0100
TZOFFSETTO:+0000
TZNAME:GMT
DTSTART:20181028T010000
END:STANDARD
BEGIN:DAYLIGHT
TZOFFSETFROM:+0000
TZOFFSETTO:+0100
TZNAME:BST
DTSTART:20190331T010000
END:DAYLIGHT
BEGIN:STANDARD
TZOFFSETFROM:+0100
TZOFFSETTO:+0000
TZNAME:GMT
DTSTART:20191027T010000
END:STANDARD
BEGIN:DAYLIGHT
TZOFFSETFROM:+0000
TZOFFSETTO:+0100
TZNAME:BST
DTSTART:20200329T010000
END:DAYLIGHT
BEGIN:STANDARD
TZOFFSETFROM:+0100
TZOFFSETTO:+0000
TZNAME:GMT
DTSTART:20201025T010000
END:STANDARD
END:VTIMEZONE
BEGIN:VEVENT
DTSTART;TZID=Europe/London:20190504T120000
DTEND;TZID=Europe/London:20190504T140000
DTSTAMP:20260424T051216
CREATED:20190409T092129Z
LAST-MODIFIED:20190409T093808Z
UID:537-1556971200-1556978400@labyrinthsinbritain.uk
SUMMARY:Labyrinth Dedication Ceremony and Walk
DESCRIPTION:The Chater Valley Labyrinth\, inspired by the Chartres Labyrinth\, is in the final stages of completion and will have its Dedication Ceremony on World Labyrinth Day\, Saturday May 4th. Very informal ceremony followed by a labyrinth walk. \nPlease let us know beforehand via email or phone if you would like to attend. Free to attend\, donations welcome.
URL:https://labyrinthsinbritain.uk/event/labyrinth-dedication-ceremony-and-walk/
LOCATION:Chater Valley Farm\, Pinfold lane\, Pilton\, Rutland\, Pilton\, Rutland\, LE15 9PA\, United Kingdom
CATEGORIES:Dedication Ceremony,Labyrinth Walk,World Labyrinth Day
ORGANIZER;CN="Malcolm Gough":MAILTO:malcolm@chatervalley.com
END:VEVENT
END:VCALENDAR